BEGIN:VCALENDAR
VERSION:2.0
PRODID:-//Pfarrei Benediktbeuern - ECPv6.15.17//NONSGML v1.0//EN
CALSCALE:GREGORIAN
METHOD:PUBLISH
X-ORIGINAL-URL:https://www.pfarrei-benediktbeuern.de
X-WR-CALDESC:Veranstaltungen für Pfarrei Benediktbeuern
REFRESH-INTERVAL;VALUE=DURATION:PT1H
X-Robots-Tag:noindex
X-PUBLISHED-TTL:PT1H
BEGIN:VTIMEZONE
TZID:Europe/Berlin
BEGIN:DAYLIGHT
TZOFFSETFROM:+0100
TZOFFSETTO:+0200
TZNAME:CEST
DTSTART:20250330T010000
END:DAYLIGHT
BEGIN:STANDARD
TZOFFSETFROM:+0200
TZOFFSETTO:+0100
TZNAME:CET
DTSTART:20251026T010000
END:STANDARD
BEGIN:DAYLIGHT
TZOFFSETFROM:+0100
TZOFFSETTO:+0200
TZNAME:CEST
DTSTART:20260329T010000
END:DAYLIGHT
BEGIN:STANDARD
TZOFFSETFROM:+0200
TZOFFSETTO:+0100
TZNAME:CET
DTSTART:20261025T010000
END:STANDARD
BEGIN:DAYLIGHT
TZOFFSETFROM:+0100
TZOFFSETTO:+0200
TZNAME:CEST
DTSTART:20270328T010000
END:DAYLIGHT
BEGIN:STANDARD
TZOFFSETFROM:+0200
TZOFFSETTO:+0100
TZNAME:CET
DTSTART:20271031T010000
END:STANDARD
END:VTIMEZONE
BEGIN:VEVENT
DTSTART;TZID=Europe/Berlin:20260503T100000
DTEND;TZID=Europe/Berlin:20260503T100000
DTSTAMP:20260420T231926
CREATED:20250604T023332Z
LAST-MODIFIED:20260123T112554Z
UID:10001984-1777802400-1777802400@www.pfarrei-benediktbeuern.de
SUMMARY:Kinderkirche im Pfarrhof
DESCRIPTION:Wir beginnen  den Gottesdienst gemeinsam mit der Pfarrgemeinde in der Marienkirche. \nDie Kinderkirche bietet die Möglichkeit\, Geschichten aus der Bibel und den Ablauf eines Gottesdienstes kennenzulernen. Die Kinder dürfen dabei nicht nur schauen und zuhören\, sondern sich auch bewegen\, tanzen\, fröhlich sein und mitfeiern. \nKindergottesdienst zu feiern\, soll Freude machen\, damit die Kinder Positives mit dem Wort Gottes verbinden\, Vertrauen zum Glauben fassen und gerne wieder kommen.\nDie Gottesdienste\, die wir im Kreis auf einem Teppich sitzend feiern\, dauern ungefähr eine halbe Stunde. Nach dem immer gleichen Eröffnungslied folgt die Begrüßung mit dem Entzünden der Jesuskerze. Es schließen sich die thematische Einführung\, Tagesgebet\, Kyrie und Gloria mit einem Bewegungslied an. Zum Evangelium dürfen einige Kinder das selbstgestaltete Jesusbuch und Kerzen im Kreis tragen\, dazu singen wir ein Halleluja-Lied. Nachdem die frohe Botschaft vorgetragen wurde\, beginnt der kreative Teil\, wo entweder die biblische Geschichte mit einem Puppenspiel nachgestellt oder als Bodenbild gelegt wird. Dies geschieht immer im Dialog mit den Kindern und  ihrer tatkräftigen Unterstützung. Dann folgen Fürbitten\, Vaterunser\, Segenslied\, Dankgebet\, und zum Abschluss singen wir das immer gleiche Schlusslied. \nNicht nur die religiösen Rituale sondern auch ganz besonders die Lieder haben einen hohen Wiedererkennungswert für die Kleinen. Sie können in kurzer Zeit schon aktiv mitmachen und man merkt ihnen ihre Freude und ihren Stolz darüber an. Ältere Kinder hingegen können auf einfache Fragen eigenständige Antworten geben\, dabei wird offensichtlich\, dass die Kinder oft mehr intuitiv verstehen als wir Erwachsenen glauben.
URL:https://www.pfarrei-benediktbeuern.de/event/kinderkirche-im-pfarrhof-4/2026-05-03/
LOCATION:Kath. Pfarrhof Benediktbeuern\, Dorfplatz 4\, Benediktbeuern\, Oberbayern\, 83671\, Germany
CATEGORIES:#Hinweis Startseite,Famillen,Gottesdienst,Kinderkirche und Familiengottesdienste,Pfarrei,Veranstaltung
ATTACH;FMTTYPE=image/jpeg:https://www.pfarrei-benediktbeuern.de/wp-content/uploads/2024/09/dbea1b8f0d1446af62bfc6bc18beea48.jpg
GEO:47.7079321;11.4128462
X-APPLE-STRUCTURED-LOCATION;VALUE=URI;X-ADDRESS=Kath. Pfarrhof Benediktbeuern Dorfplatz 4 Benediktbeuern Oberbayern 83671 Germany;X-APPLE-RADIUS=500;X-TITLE=Dorfplatz 4:geo:11.4128462,47.7079321
END:VEVENT
BEGIN:VEVENT
DTSTART;TZID=Europe/Berlin:20260507T140000
DTEND;TZID=Europe/Berlin:20260507T160000
DTSTAMP:20260420T231926
CREATED:20260205T134657Z
LAST-MODIFIED:20260205T134709Z
UID:10001405-1778162400-1778169600@www.pfarrei-benediktbeuern.de
SUMMARY:Geselliger Handarbeitstreff
DESCRIPTION:Wir stricken nach Lust und Laune für den Eigenbedarf oder für den Christkindlmarkt. Info bei Rosi Widner (Tel. 08857 9698).
URL:https://www.pfarrei-benediktbeuern.de/event/geselliger-handarbeitstreff-2-2/
LOCATION:Kath. Pfarrhof Benediktbeuern\, Dorfplatz 4\, Benediktbeuern\, Oberbayern\, 83671\, Germany
CATEGORIES:Frauenbund Benediktbeuern,Pfarrei
ATTACH;FMTTYPE=image/jpeg:https://www.pfarrei-benediktbeuern.de/wp-content/uploads/2024/10/p1150462-563x800-1-e1729592651829.jpg
GEO:47.7079321;11.4128462
X-APPLE-STRUCTURED-LOCATION;VALUE=URI;X-ADDRESS=Kath. Pfarrhof Benediktbeuern Dorfplatz 4 Benediktbeuern Oberbayern 83671 Germany;X-APPLE-RADIUS=500;X-TITLE=Dorfplatz 4:geo:11.4128462,47.7079321
END:VEVENT
BEGIN:VEVENT
DTSTART;TZID=Europe/Berlin:20260511T160000
DTEND;TZID=Europe/Berlin:20260511T180000
DTSTAMP:20260420T231926
CREATED:20260205T140058Z
LAST-MODIFIED:20260205T140058Z
UID:10002176-1778515200-1778522400@www.pfarrei-benediktbeuern.de
SUMMARY:Basteltreffen im Pfarrhof
DESCRIPTION:
URL:https://www.pfarrei-benediktbeuern.de/event/basteltreffen-im-pfarrhof-3/2026-05-11/
LOCATION:Kath. Pfarrhof Benediktbeuern\, Dorfplatz 4\, Benediktbeuern\, Oberbayern\, 83671\, Germany
CATEGORIES:Frauenbund Benediktbeuern,Pfarrei
ATTACH;FMTTYPE=image/jpeg:https://www.pfarrei-benediktbeuern.de/wp-content/uploads/2024/10/Basteln.jpg
GEO:47.7079321;11.4128462
X-APPLE-STRUCTURED-LOCATION;VALUE=URI;X-ADDRESS=Kath. Pfarrhof Benediktbeuern Dorfplatz 4 Benediktbeuern Oberbayern 83671 Germany;X-APPLE-RADIUS=500;X-TITLE=Dorfplatz 4:geo:11.4128462,47.7079321
END:VEVENT
BEGIN:VEVENT
DTSTART;TZID=Europe/Berlin:20260513T200000
DTEND;TZID=Europe/Berlin:20260513T200000
DTSTAMP:20260420T231926
CREATED:20260105T081124Z
LAST-MODIFIED:20260226T105441Z
UID:10001839-1778702400-1778702400@www.pfarrei-benediktbeuern.de
SUMMARY:Pfarrhof-Kino
DESCRIPTION:Wir wollen zum gemeinsamen Schauen einladen\, die Lust an den Filmen wecken und auch motivieren\, wieder mehr ins Kino zu gehen \nBewegte Bilder für die Seele\nFilme sprechen unsere Gefühle in einer besonderen Art und Weise an. Sie schaffen emphatische Identifikation mit Rollen\, eine Auseinandersetzung mit sich selbst und mit gesellschaftlichen Themen. In Spielfilmen geht es immer um einen Bruch\, ein Drama\, das nach Heilung\, ein Happy End verlangt. In Science-Fiction-Filmen retten Erlöser-Figuren die Welt. Und die Komödie will eine heitere Gelassenheit als Grundhaltung gegenüber dem Dasein vermitteln. Wir wollen zum gemeinsamen Schauen einladen\, die Lust an den Filmen wecken und auch motivieren\, wieder mehr ins Kino zu gehen. Die Filme werden im Kirchenanzeiger\, auf Aushängen\, in den Schaukästen der Kirchen und in der lokalen Zeitung angekündigt. \nSebastian Bugl\, Benediktbeuern
URL:https://www.pfarrei-benediktbeuern.de/event/pfarrhof-kino-2/
LOCATION:Kath. Pfarrhof Benediktbeuern\, Dorfplatz 4\, Benediktbeuern\, Oberbayern\, 83671\, Germany
CATEGORIES:#Hinweis Startseite,Pfarrei,Pfarrhof-Kino
ATTACH;FMTTYPE=image/jpeg:https://www.pfarrei-benediktbeuern.de/wp-content/uploads/2025/02/Kino.jpg
GEO:47.7079321;11.4128462
X-APPLE-STRUCTURED-LOCATION;VALUE=URI;X-ADDRESS=Kath. Pfarrhof Benediktbeuern Dorfplatz 4 Benediktbeuern Oberbayern 83671 Germany;X-APPLE-RADIUS=500;X-TITLE=Dorfplatz 4:geo:11.4128462,47.7079321
END:VEVENT
BEGIN:VEVENT
DTSTART;TZID=Europe/Berlin:20260521T140000
DTEND;TZID=Europe/Berlin:20260521T160000
DTSTAMP:20260420T231926
CREATED:20260205T135717Z
LAST-MODIFIED:20260205T135717Z
UID:10002160-1779372000-1779379200@www.pfarrei-benediktbeuern.de
SUMMARY:Geselliger Handarbeitstreff
DESCRIPTION:Wir stricken nach Lust und Laune für den Eigenbedarf oder für den Christkindlmarkt. Info bei Rosi Widner (Tel. 08857 9698).
URL:https://www.pfarrei-benediktbeuern.de/event/geselliger-handarbeitstreff-6/
LOCATION:Kath. Pfarrhof Benediktbeuern\, Dorfplatz 4\, Benediktbeuern\, Oberbayern\, 83671\, Germany
CATEGORIES:Frauenbund Benediktbeuern,Pfarrei
ATTACH;FMTTYPE=image/jpeg:https://www.pfarrei-benediktbeuern.de/wp-content/uploads/2024/10/p1150462-563x800-1-e1729592651829.jpg
GEO:47.7079321;11.4128462
X-APPLE-STRUCTURED-LOCATION;VALUE=URI;X-ADDRESS=Kath. Pfarrhof Benediktbeuern Dorfplatz 4 Benediktbeuern Oberbayern 83671 Germany;X-APPLE-RADIUS=500;X-TITLE=Dorfplatz 4:geo:11.4128462,47.7079321
END:VEVENT
BEGIN:VEVENT
DTSTART;TZID=Europe/Berlin:20260531T000000
DTEND;TZID=Europe/Berlin:20260531T000000
DTSTAMP:20260420T231926
CREATED:20260205T150824Z
LAST-MODIFIED:20260205T151945Z
UID:10002181-1780185600-1780185600@www.pfarrei-benediktbeuern.de
SUMMARY:Franziskus und Klara – Bilder und Impulse einer Reise nach Assisi
DESCRIPTION:Eine Veranstaltung des Frauenbundes Benediktbeuern mit den Bichler Frauenbundfrauen\n \nTheaterfahrt ins Volkstheater Bad Endorf: „Pater Rupert Mayer“ \nInfo und Anmeldung bis 15.05.2026 bei Lisa Fenker\, Tel. 08857/69 88 608 oder Elisabeth Eberl Tel. 08857/9139 \n  \n 
URL:https://www.pfarrei-benediktbeuern.de/event/franziskus-und-klara-bilder-und-impulse-einer-reise-nach-assisi-2/
LOCATION:Kath. Pfarrhof Benediktbeuern\, Dorfplatz 4\, Benediktbeuern\, Oberbayern\, 83671\, Germany
CATEGORIES:#Hinweis Startseite,Frauenbund Benediktbeuern,Pfarrei,Veranstaltung
ATTACH;FMTTYPE=image/jpeg:https://www.pfarrei-benediktbeuern.de/wp-content/uploads/2024/09/12f6d4b4598bc78a848082aca9ab1801.jpg
GEO:47.7079321;11.4128462
X-APPLE-STRUCTURED-LOCATION;VALUE=URI;X-ADDRESS=Kath. Pfarrhof Benediktbeuern Dorfplatz 4 Benediktbeuern Oberbayern 83671 Germany;X-APPLE-RADIUS=500;X-TITLE=Dorfplatz 4:geo:11.4128462,47.7079321
END:VEVENT
BEGIN:VEVENT
DTSTART;TZID=Europe/Berlin:20260609T140000
DTEND;TZID=Europe/Berlin:20260609T140000
DTSTAMP:20260420T231926
CREATED:20260115T140842Z
LAST-MODIFIED:20260115T140940Z
UID:10001843-1781013600-1781013600@www.pfarrei-benediktbeuern.de
SUMMARY:Seniorennachmittag: Heimische Kräuter - für was helfen sie?
DESCRIPTION:Die Senioren aus Benediktbeuern und Bichl sind eingeladen\, den Nachmittag miteinander zu verbringen. \nFoto: Wandersmann  / pixelio.de
URL:https://www.pfarrei-benediktbeuern.de/event/seniorennachmittag-heimische-kraeuter-fuer-was-helfen-sie/
LOCATION:Kath. Pfarrhof Benediktbeuern\, Dorfplatz 4\, Benediktbeuern\, Oberbayern\, 83671\, Germany
CATEGORIES:#Hinweis Startseite,Senioren,Übertragung WP,Veranstaltung
ATTACH;FMTTYPE=image/jpeg:https://www.pfarrei-benediktbeuern.de/wp-content/uploads/2025/06/Kaffee_by_Wandersmann_pixelio.de89557580146669-e1757658791637.jpg
GEO:47.7079321;11.4128462
X-APPLE-STRUCTURED-LOCATION;VALUE=URI;X-ADDRESS=Kath. Pfarrhof Benediktbeuern Dorfplatz 4 Benediktbeuern Oberbayern 83671 Germany;X-APPLE-RADIUS=500;X-TITLE=Dorfplatz 4:geo:11.4128462,47.7079321
END:VEVENT
BEGIN:VEVENT
DTSTART;TZID=Europe/Berlin:20260614T100000
DTEND;TZID=Europe/Berlin:20260614T100000
DTSTAMP:20260420T231926
CREATED:20250604T023332Z
LAST-MODIFIED:20260123T112554Z
UID:10001985-1781431200-1781431200@www.pfarrei-benediktbeuern.de
SUMMARY:Kinderkirche im Pfarrhof
DESCRIPTION:Wir beginnen  den Gottesdienst gemeinsam mit der Pfarrgemeinde in der Marienkirche. \nDie Kinderkirche bietet die Möglichkeit\, Geschichten aus der Bibel und den Ablauf eines Gottesdienstes kennenzulernen. Die Kinder dürfen dabei nicht nur schauen und zuhören\, sondern sich auch bewegen\, tanzen\, fröhlich sein und mitfeiern. \nKindergottesdienst zu feiern\, soll Freude machen\, damit die Kinder Positives mit dem Wort Gottes verbinden\, Vertrauen zum Glauben fassen und gerne wieder kommen.\nDie Gottesdienste\, die wir im Kreis auf einem Teppich sitzend feiern\, dauern ungefähr eine halbe Stunde. Nach dem immer gleichen Eröffnungslied folgt die Begrüßung mit dem Entzünden der Jesuskerze. Es schließen sich die thematische Einführung\, Tagesgebet\, Kyrie und Gloria mit einem Bewegungslied an. Zum Evangelium dürfen einige Kinder das selbstgestaltete Jesusbuch und Kerzen im Kreis tragen\, dazu singen wir ein Halleluja-Lied. Nachdem die frohe Botschaft vorgetragen wurde\, beginnt der kreative Teil\, wo entweder die biblische Geschichte mit einem Puppenspiel nachgestellt oder als Bodenbild gelegt wird. Dies geschieht immer im Dialog mit den Kindern und  ihrer tatkräftigen Unterstützung. Dann folgen Fürbitten\, Vaterunser\, Segenslied\, Dankgebet\, und zum Abschluss singen wir das immer gleiche Schlusslied. \nNicht nur die religiösen Rituale sondern auch ganz besonders die Lieder haben einen hohen Wiedererkennungswert für die Kleinen. Sie können in kurzer Zeit schon aktiv mitmachen und man merkt ihnen ihre Freude und ihren Stolz darüber an. Ältere Kinder hingegen können auf einfache Fragen eigenständige Antworten geben\, dabei wird offensichtlich\, dass die Kinder oft mehr intuitiv verstehen als wir Erwachsenen glauben.
URL:https://www.pfarrei-benediktbeuern.de/event/kinderkirche-im-pfarrhof-4/2026-06-14/
LOCATION:Kath. Pfarrhof Benediktbeuern\, Dorfplatz 4\, Benediktbeuern\, Oberbayern\, 83671\, Germany
CATEGORIES:#Hinweis Startseite,Famillen,Gottesdienst,Kinderkirche und Familiengottesdienste,Pfarrei,Veranstaltung
ATTACH;FMTTYPE=image/jpeg:https://www.pfarrei-benediktbeuern.de/wp-content/uploads/2024/09/dbea1b8f0d1446af62bfc6bc18beea48.jpg
GEO:47.7079321;11.4128462
X-APPLE-STRUCTURED-LOCATION;VALUE=URI;X-ADDRESS=Kath. Pfarrhof Benediktbeuern Dorfplatz 4 Benediktbeuern Oberbayern 83671 Germany;X-APPLE-RADIUS=500;X-TITLE=Dorfplatz 4:geo:11.4128462,47.7079321
END:VEVENT
BEGIN:VEVENT
DTSTART;TZID=Europe/Berlin:20260709T200000
DTEND;TZID=Europe/Berlin:20260709T200000
DTSTAMP:20260420T231926
CREATED:20260105T081247Z
LAST-MODIFIED:20260105T081401Z
UID:10001840-1783627200-1783627200@www.pfarrei-benediktbeuern.de
SUMMARY:Pfarrhof-Kino
DESCRIPTION:  \nWir wollen zum gemeinsamen Schauen einladen\, die Lust an den Filmen wecken und auch motivieren\, wieder mehr ins Kino zu gehen \nBewegte Bilder für die Seele\nFilme sprechen unsere Gefühle in einer besonderen Art und Weise an. Sie schaffen emphatische Identifikation mit Rollen\, eine Auseinandersetzung mit sich selbst und mit gesellschaftlichen Themen. In Spielfilmen geht es immer um einen Bruch\, ein Drama\, das nach Heilung\, ein Happy End verlangt. In Science-Fiction-Filmen retten Erlöser-Figuren die Welt. Und die Komödie will eine heitere Gelassenheit als Grundhaltung gegenüber dem Dasein vermitteln. Wir wollen zum gemeinsamen Schauen einladen\, die Lust an den Filmen wecken und auch motivieren\, wieder mehr ins Kino zu gehen. Die Filme werden im Kirchenanzeiger\, auf Aushängen\, in den Schaukästen der Kirchen und in der lokalen Zeitung angekündigt. \nSebastian Bugl\, Benediktbeuern
URL:https://www.pfarrei-benediktbeuern.de/event/pfarrhof-kino-3/
LOCATION:Kath. Pfarrhof Benediktbeuern\, Dorfplatz 4\, Benediktbeuern\, Oberbayern\, 83671\, Germany
CATEGORIES:#Hinweis Startseite,Pfarrei,Pfarrhof-Kino
ATTACH;FMTTYPE=image/jpeg:https://www.pfarrei-benediktbeuern.de/wp-content/uploads/2025/02/Kino.jpg
GEO:47.7079321;11.4128462
X-APPLE-STRUCTURED-LOCATION;VALUE=URI;X-ADDRESS=Kath. Pfarrhof Benediktbeuern Dorfplatz 4 Benediktbeuern Oberbayern 83671 Germany;X-APPLE-RADIUS=500;X-TITLE=Dorfplatz 4:geo:11.4128462,47.7079321
END:VEVENT
BEGIN:VEVENT
DTSTART;TZID=Europe/Berlin:20260908T130000
DTEND;TZID=Europe/Berlin:20260908T170000
DTSTAMP:20260420T231926
CREATED:20250604T045623Z
LAST-MODIFIED:20260115T141928Z
UID:10001245-1788872400-1788886800@www.pfarrei-benediktbeuern.de
SUMMARY:Seniorenausflug
DESCRIPTION:Näheres wird über die Presse bekanntgegeben. \nFoto: Wandersmann  / pixelio.de
URL:https://www.pfarrei-benediktbeuern.de/event/seniorenausflug-nach-dietramszell-mit-besichtigung-der-leonhardikapelle/
LOCATION:Kath. Pfarrhof Benediktbeuern\, Dorfplatz 4\, Benediktbeuern\, Oberbayern\, 83671\, Germany
CATEGORIES:#Hinweis Startseite,Gottesdienst,Übertragung WP,Veranstaltung
ATTACH;FMTTYPE=image/jpeg:https://www.pfarrei-benediktbeuern.de/wp-content/uploads/2025/06/Kaffee_by_Wandersmann_pixelio.de89557580146288-e1757658758441.jpg
GEO:47.7079321;11.4128462
X-APPLE-STRUCTURED-LOCATION;VALUE=URI;X-ADDRESS=Kath. Pfarrhof Benediktbeuern Dorfplatz 4 Benediktbeuern Oberbayern 83671 Germany;X-APPLE-RADIUS=500;X-TITLE=Dorfplatz 4:geo:11.4128462,47.7079321
END:VEVENT
BEGIN:VEVENT
DTSTART;TZID=Europe/Berlin:20260909T200000
DTEND;TZID=Europe/Berlin:20260909T200000
DTSTAMP:20260420T231926
CREATED:20260105T081300Z
LAST-MODIFIED:20260105T081420Z
UID:10001841-1788984000-1788984000@www.pfarrei-benediktbeuern.de
SUMMARY:Pfarrhof-Kino
DESCRIPTION:  \nWir wollen zum gemeinsamen Schauen einladen\, die Lust an den Filmen wecken und auch motivieren\, wieder mehr ins Kino zu gehen \nBewegte Bilder für die Seele\nFilme sprechen unsere Gefühle in einer besonderen Art und Weise an. Sie schaffen emphatische Identifikation mit Rollen\, eine Auseinandersetzung mit sich selbst und mit gesellschaftlichen Themen. In Spielfilmen geht es immer um einen Bruch\, ein Drama\, das nach Heilung\, ein Happy End verlangt. In Science-Fiction-Filmen retten Erlöser-Figuren die Welt. Und die Komödie will eine heitere Gelassenheit als Grundhaltung gegenüber dem Dasein vermitteln. Wir wollen zum gemeinsamen Schauen einladen\, die Lust an den Filmen wecken und auch motivieren\, wieder mehr ins Kino zu gehen. Die Filme werden im Kirchenanzeiger\, auf Aushängen\, in den Schaukästen der Kirchen und in der lokalen Zeitung angekündigt. \nSebastian Bugl\, Benediktbeuern
URL:https://www.pfarrei-benediktbeuern.de/event/pfarrhof-kino-4/
LOCATION:Kath. Pfarrhof Benediktbeuern\, Dorfplatz 4\, Benediktbeuern\, Oberbayern\, 83671\, Germany
CATEGORIES:#Hinweis Startseite,Pfarrei,Pfarrhof-Kino
ATTACH;FMTTYPE=image/jpeg:https://www.pfarrei-benediktbeuern.de/wp-content/uploads/2025/02/Kino.jpg
GEO:47.7079321;11.4128462
X-APPLE-STRUCTURED-LOCATION;VALUE=URI;X-ADDRESS=Kath. Pfarrhof Benediktbeuern Dorfplatz 4 Benediktbeuern Oberbayern 83671 Germany;X-APPLE-RADIUS=500;X-TITLE=Dorfplatz 4:geo:11.4128462,47.7079321
END:VEVENT
BEGIN:VEVENT
DTSTART;TZID=Europe/Berlin:20261013T140000
DTEND;TZID=Europe/Berlin:20261013T140000
DTSTAMP:20260420T231926
CREATED:20250604T032222Z
LAST-MODIFIED:20260115T142104Z
UID:10001223-1791900000-1791900000@www.pfarrei-benediktbeuern.de
SUMMARY:Seniorennachmittag: Es wird ein Film von Birkenstein gezeigt
DESCRIPTION:Die Senioren aus Benediktbeuern und Bichl sind eingeladen\, den Nachmittag miteinander zu verbringen. \nFoto: Wandersmann  / pixelio.de
URL:https://www.pfarrei-benediktbeuern.de/event/seniorennachmittag-film-von-der-aufstellung-des-benediktenwandkreuzes/
LOCATION:Kath. Pfarrhof Benediktbeuern\, Dorfplatz 4\, Benediktbeuern\, Oberbayern\, 83671\, Germany
CATEGORIES:#Hinweis Startseite,Senioren,Übertragung WP,Veranstaltung
ATTACH;FMTTYPE=image/jpeg:https://www.pfarrei-benediktbeuern.de/wp-content/uploads/2025/06/Kaffee_by_Wandersmann_pixelio.de89557580146669-e1757658791637.jpg
GEO:47.7079321;11.4128462
X-APPLE-STRUCTURED-LOCATION;VALUE=URI;X-ADDRESS=Kath. Pfarrhof Benediktbeuern Dorfplatz 4 Benediktbeuern Oberbayern 83671 Germany;X-APPLE-RADIUS=500;X-TITLE=Dorfplatz 4:geo:11.4128462,47.7079321
END:VEVENT
BEGIN:VEVENT
DTSTART;TZID=Europe/Berlin:20261110T140000
DTEND;TZID=Europe/Berlin:20261110T140000
DTSTAMP:20260420T231926
CREATED:20260115T142250Z
LAST-MODIFIED:20260115T142250Z
UID:10001844-1794319200-1794319200@www.pfarrei-benediktbeuern.de
SUMMARY:Seniorennachmittag: Sprichwörter - wo kommen sie her?
DESCRIPTION:Die Senioren aus Benediktbeuern und Bichl sind eingeladen\, den Nachmittag miteinander zu verbringen. \nFoto: Wandersmann  / pixelio.de
URL:https://www.pfarrei-benediktbeuern.de/event/seniorennachmittag-sprichwoerter-wo-kommen-sie-her/
LOCATION:Kath. Pfarrhof Benediktbeuern\, Dorfplatz 4\, Benediktbeuern\, Oberbayern\, 83671\, Germany
CATEGORIES:#Hinweis Startseite,Senioren,Übertragung WP,Veranstaltung
ATTACH;FMTTYPE=image/jpeg:https://www.pfarrei-benediktbeuern.de/wp-content/uploads/2025/06/Kaffee_by_Wandersmann_pixelio.de89557580146669-e1757658791637.jpg
GEO:47.7079321;11.4128462
X-APPLE-STRUCTURED-LOCATION;VALUE=URI;X-ADDRESS=Kath. Pfarrhof Benediktbeuern Dorfplatz 4 Benediktbeuern Oberbayern 83671 Germany;X-APPLE-RADIUS=500;X-TITLE=Dorfplatz 4:geo:11.4128462,47.7079321
END:VEVENT
BEGIN:VEVENT
DTSTART;TZID=Europe/Berlin:20261111T200000
DTEND;TZID=Europe/Berlin:20261111T200000
DTSTAMP:20260420T231926
CREATED:20260105T081444Z
LAST-MODIFIED:20260105T081521Z
UID:10001842-1794427200-1794427200@www.pfarrei-benediktbeuern.de
SUMMARY:Pfarrhof-Kino
DESCRIPTION:  \nWir wollen zum gemeinsamen Schauen einladen\, die Lust an den Filmen wecken und auch motivieren\, wieder mehr ins Kino zu gehen \nBewegte Bilder für die Seele\nFilme sprechen unsere Gefühle in einer besonderen Art und Weise an. Sie schaffen emphatische Identifikation mit Rollen\, eine Auseinandersetzung mit sich selbst und mit gesellschaftlichen Themen. In Spielfilmen geht es immer um einen Bruch\, ein Drama\, das nach Heilung\, ein Happy End verlangt. In Science-Fiction-Filmen retten Erlöser-Figuren die Welt. Und die Komödie will eine heitere Gelassenheit als Grundhaltung gegenüber dem Dasein vermitteln. Wir wollen zum gemeinsamen Schauen einladen\, die Lust an den Filmen wecken und auch motivieren\, wieder mehr ins Kino zu gehen. Die Filme werden im Kirchenanzeiger\, auf Aushängen\, in den Schaukästen der Kirchen und in der lokalen Zeitung angekündigt. \nSebastian Bugl\, Benediktbeuern
URL:https://www.pfarrei-benediktbeuern.de/event/pfarrhof-kino-5/
LOCATION:Kath. Pfarrhof Benediktbeuern\, Dorfplatz 4\, Benediktbeuern\, Oberbayern\, 83671\, Germany
CATEGORIES:#Hinweis Startseite,Pfarrei,Pfarrhof-Kino
ATTACH;FMTTYPE=image/jpeg:https://www.pfarrei-benediktbeuern.de/wp-content/uploads/2025/02/Kino.jpg
GEO:47.7079321;11.4128462
X-APPLE-STRUCTURED-LOCATION;VALUE=URI;X-ADDRESS=Kath. Pfarrhof Benediktbeuern Dorfplatz 4 Benediktbeuern Oberbayern 83671 Germany;X-APPLE-RADIUS=500;X-TITLE=Dorfplatz 4:geo:11.4128462,47.7079321
END:VEVENT
BEGIN:VEVENT
DTSTART;TZID=Europe/Berlin:20261208T140000
DTEND;TZID=Europe/Berlin:20261208T140000
DTSTAMP:20260420T231926
CREATED:20250604T020153Z
LAST-MODIFIED:20260115T143756Z
UID:10001201-1796738400-1796738400@www.pfarrei-benediktbeuern.de
SUMMARY:Seniorennachmittag: Adventfeier
DESCRIPTION:Die Senioren aus Benediktbeuern und Bichl sind eingeladen\, den Nachmittag miteinander zu verbringen. \nFoto: Wandersmann  / pixelio.de
URL:https://www.pfarrei-benediktbeuern.de/event/seniorennachmittag/
LOCATION:Kath. Pfarrhof Benediktbeuern\, Dorfplatz 4\, Benediktbeuern\, Oberbayern\, 83671\, Germany
CATEGORIES:#Hinweis Startseite,Senioren,Übertragung WP,Veranstaltung
ATTACH;FMTTYPE=image/jpeg:https://www.pfarrei-benediktbeuern.de/wp-content/uploads/2025/06/Kaffee_by_Wandersmann_pixelio.de89557580146741-e1768487053372.jpg
GEO:47.7079321;11.4128462
X-APPLE-STRUCTURED-LOCATION;VALUE=URI;X-ADDRESS=Kath. Pfarrhof Benediktbeuern Dorfplatz 4 Benediktbeuern Oberbayern 83671 Germany;X-APPLE-RADIUS=500;X-TITLE=Dorfplatz 4:geo:11.4128462,47.7079321
END:VEVENT
END:VCALENDAR