BEGIN:VCALENDAR
VERSION:2.0
PRODID:-//Pfarrei Benediktbeuern - ECPv6.15.17//NONSGML v1.0//EN
CALSCALE:GREGORIAN
METHOD:PUBLISH
X-WR-CALNAME:Pfarrei Benediktbeuern
X-ORIGINAL-URL:https://www.pfarrei-benediktbeuern.de
X-WR-CALDESC:Veranstaltungen für Pfarrei Benediktbeuern
REFRESH-INTERVAL;VALUE=DURATION:PT1H
X-Robots-Tag:noindex
X-PUBLISHED-TTL:PT1H
BEGIN:VTIMEZONE
TZID:Europe/Berlin
BEGIN:DAYLIGHT
TZOFFSETFROM:+0100
TZOFFSETTO:+0200
TZNAME:CEST
DTSTART:20230326T010000
END:DAYLIGHT
BEGIN:STANDARD
TZOFFSETFROM:+0200
TZOFFSETTO:+0100
TZNAME:CET
DTSTART:20231029T010000
END:STANDARD
BEGIN:DAYLIGHT
TZOFFSETFROM:+0100
TZOFFSETTO:+0200
TZNAME:CEST
DTSTART:20240331T010000
END:DAYLIGHT
BEGIN:STANDARD
TZOFFSETFROM:+0200
TZOFFSETTO:+0100
TZNAME:CET
DTSTART:20241027T010000
END:STANDARD
BEGIN:DAYLIGHT
TZOFFSETFROM:+0100
TZOFFSETTO:+0200
TZNAME:CEST
DTSTART:20250330T010000
END:DAYLIGHT
BEGIN:STANDARD
TZOFFSETFROM:+0200
TZOFFSETTO:+0100
TZNAME:CET
DTSTART:20251026T010000
END:STANDARD
END:VTIMEZONE
BEGIN:VEVENT
DTSTART;TZID=Europe/Berlin:20240707T103000
DTEND;TZID=Europe/Berlin:20240707T120000
DTSTAMP:20260422T140339
CREATED:20250604T063953Z
LAST-MODIFIED:20250623T072702Z
UID:10001262-1720348200-1720353600@www.pfarrei-benediktbeuern.de
SUMMARY:Familienbergmesse auf dem Straßberg
DESCRIPTION:Mit einem wunderbaren Blick auf das Loisachtal feiern wir auf dem Straßberg eine Heilige Messe.\nDer Gottesdienst beginnt um 10.30 Uhr. Wer den Weg auf den Straßberg in der Gruppe gehen will\, kann sich um 9.30 Uhr am Bichler Schwimmbad treffen.\nDieser Weg ist auch für Kleinkinder gut geeignet. \nAlternativ erreicht man den Ort auch über die Forststraße ab Gaststätte Schreiner in Benediktbeuern. \nGehzeit ca. eine ¾ Stunde (ca. 150 Meter Anstieg). \nWegbeschreibung auf Komoot:\n\nab Bichler Schwimmbad: \nab Waldgaststätte Schreiner\n\nBei schlechtem Wetter entfällt der Gottesdienst! \nDas wird dies am Sonntagmorgen auf der Homepage bekannt gegeben
URL:https://www.pfarrei-benediktbeuern.de/event/familienbergmesse-auf-dem-strassberg/
LOCATION:Straßberg bei Benediktbeuern
CATEGORIES:#Hinweis Startseite,Famillen,Gottesdienst,Gottesdienste in der Natur,Übertragung WP,Veranstaltung
ATTACH;FMTTYPE=image/jpeg:https://www.pfarrei-benediktbeuern.de/wp-content/uploads/2025/06/20210704_112338-870x423-1.jpg
END:VEVENT
END:VCALENDAR